BEGIN:VCALENDAR
VERSION:2.0
PRODID:-//Volksschule St. Aegyd - ECPv6.15.20//NONSGML v1.0//EN
CALSCALE:GREGORIAN
METHOD:PUBLISH
X-WR-CALNAME:Volksschule St. Aegyd
X-ORIGINAL-URL:https://vsstaegyd.ac.at
X-WR-CALDESC:Veranstaltungen für Volksschule St. Aegyd
REFRESH-INTERVAL;VALUE=DURATION:PT1H
X-Robots-Tag:noindex
X-PUBLISHED-TTL:PT1H
BEGIN:VTIMEZONE
TZID:Europe/Vienna
BEGIN:DAYLIGHT
TZOFFSETFROM:+0100
TZOFFSETTO:+0200
TZNAME:CEST
DTSTART:20250330T010000
END:DAYLIGHT
BEGIN:STANDARD
TZOFFSETFROM:+0200
TZOFFSETTO:+0100
TZNAME:CET
DTSTART:20251026T010000
END:STANDARD
BEGIN:DAYLIGHT
TZOFFSETFROM:+0100
TZOFFSETTO:+0200
TZNAME:CEST
DTSTART:20260329T010000
END:DAYLIGHT
BEGIN:STANDARD
TZOFFSETFROM:+0200
TZOFFSETTO:+0100
TZNAME:CET
DTSTART:20261025T010000
END:STANDARD
BEGIN:DAYLIGHT
TZOFFSETFROM:+0100
TZOFFSETTO:+0200
TZNAME:CEST
DTSTART:20270328T010000
END:DAYLIGHT
BEGIN:STANDARD
TZOFFSETFROM:+0200
TZOFFSETTO:+0100
TZNAME:CET
DTSTART:20271031T010000
END:STANDARD
END:VTIMEZONE
BEGIN:VEVENT
DTSTART;VALUE=DATE:20260523
DTEND;VALUE=DATE:20260526
DTSTAMP:20260422T153237
CREATED:20250909T105508Z
LAST-MODIFIED:20250909T105752Z
UID:5293-1779494400-1779753599@vsstaegyd.ac.at
SUMMARY:Pfingstferien
DESCRIPTION:
URL:https://vsstaegyd.ac.at/termin/pfingstferien-2/
LOCATION:Volksschule St. Aegyd am Neuwalde\, Kirchenplatz 6\, St. Aegyd am Neuwalde\, 3193\, Österreich
CATEGORIES:Feiertag/Ferien/frei
END:VEVENT
BEGIN:VEVENT
DTSTART;VALUE=DATE:20260527
DTEND;VALUE=DATE:20260530
DTSTAMP:20260422T153237
CREATED:20250909T110007Z
LAST-MODIFIED:20250909T110007Z
UID:5309-1779840000-1780099199@vsstaegyd.ac.at
SUMMARY:Projekttage Waldviertel 4. Klasse
DESCRIPTION:
URL:https://vsstaegyd.ac.at/termin/projekttage-waldviertel-4-klasse/
LOCATION:Waldviertel
CATEGORIES:Schulische Termine
END:VEVENT
END:VCALENDAR